BEGIN:VCALENDAR
VERSION:2.0
PRODID:-//Earth Environmental Consultants LLC - ECPv6.15.20//NONSGML v1.0//EN
CALSCALE:GREGORIAN
METHOD:PUBLISH
X-ORIGINAL-URL:https://earthenviro.com
X-WR-CALDESC:Events for Earth Environmental Consultants LLC
REFRESH-INTERVAL;VALUE=DURATION:PT1H
X-Robots-Tag:noindex
X-PUBLISHED-TTL:PT1H
BEGIN:VTIMEZONE
TZID:America/New_York
BEGIN:DAYLIGHT
TZOFFSETFROM:-0500
TZOFFSETTO:-0400
TZNAME:EDT
DTSTART:20220313T070000
END:DAYLIGHT
BEGIN:STANDARD
TZOFFSETFROM:-0400
TZOFFSETTO:-0500
TZNAME:EST
DTSTART:20221106T060000
END:STANDARD
BEGIN:DAYLIGHT
TZOFFSETFROM:-0500
TZOFFSETTO:-0400
TZNAME:EDT
DTSTART:20230312T070000
END:DAYLIGHT
BEGIN:STANDARD
TZOFFSETFROM:-0400
TZOFFSETTO:-0500
TZNAME:EST
DTSTART:20231105T060000
END:STANDARD
BEGIN:DAYLIGHT
TZOFFSETFROM:-0500
TZOFFSETTO:-0400
TZNAME:EDT
DTSTART:20240310T070000
END:DAYLIGHT
BEGIN:STANDARD
TZOFFSETFROM:-0400
TZOFFSETTO:-0500
TZNAME:EST
DTSTART:20241103T060000
END:STANDARD
END:VTIMEZONE
BEGIN:VEVENT
DTSTART;TZID=America/New_York:20230626T070000
DTEND;TZID=America/New_York:20230626T160000
DTSTAMP:20260421T115812
CREATED:20230609T210747Z
LAST-MODIFIED:20230609T210747Z
UID:493-1687762800-1687795200@earthenviro.com
SUMMARY:40 Hrs. Asbestos Abatement Supervisor Initial Training 
DESCRIPTION:Training Name: 40 Hrs. Asbestos Abatement Supervisor Initial Training \nDates: 5 Days Training \n\nMonday\, June 26\, 2023\nTuesday\, June 27\, 2023\nWednesday\, June 28\, 2023\nThursday\, June 29\, 2023\nFriday\, June 30\, 2023\n\nCost: $550.00 per person \nDESCRIPCIÓN GENERAL \nThis is a five day training course that includes lectures\, demonstrations\, at least fourteen (14) hours of hands-on training\, course review\, and a written examination. \nAsbestos Contractor/Supervisor courses offered at Earth are CT DPH approved. \nPlease be aware refresher courses are required annually for those who are active in the field. \n\nCOVID-19 Policy\nEarth Environmental Consultants\, LLC. updates its COVID-19 safety protocol regularly to comply with the current state and federal guidance. By attending class during the COVID-19 pandemic\, students agree to follow current local and federal regulations and Earth Environmental Consultants\, LLC. safety protocols. \nEarth Environmental Consultants\, LLC. is not requiring to show proof of vaccination at this moment. \nWe only ask if you are exhibiting symptoms of being sick\, such as but not limited to runny nose\, fever\, sore throat and or coughing to please stay home. \n\n\nRequisitos de Registro y Pago\nEarth Environmental Consultants\, LLC. (Earth) requires a 50% deposit payment for each student to reserve their seat in the course. \nThe 50% deposit must be paid at least 12 business day in advance. \nThe deposit is not refundable or transferable under any circumstances. \nThe remaining balance must be paid on the first day of the training. \nForms of payment we accept are check\, cash\, direct deposit into the business checking account\, or with credit and debit cards. \n\n\nTERMS & REGULATIONS\n\nI will always show up on time to class. Late students will not be accepted into class under any circumstance\, and payment will not be refundable. THEREFORE\, the student hereby accepts to our terms and regulations.\nAll decisions with respect to changes of training policy requirements\, attendance\, prerequisites\, payment\, if any\, will be at the sole discretion of the company.\nEEC reserves the right to deny any student attendance into the class at any period of time.\n\n\n\n  \n\nRegistration form \n Spanish  English
URL:https://earthenviro.com/event/40-hrs-asbestos-abatement-supervisor-initial-training/
LOCATION:Training Location\, 124 Tesiny Avenue\, Bridgeport\, CT\, 06606\, United States
CATEGORIES:Training Registration
END:VEVENT
END:VCALENDAR